BEGIN:VCALENDAR
VERSION:2.0
PRODID:-//wp-events-plugin.com//7.2.3.1//EN
TZID:Europe/Berlin
X-WR-TIMEZONE:Europe/Berlin
BEGIN:VEVENT
UID:171@kfv-erz.de
DTSTART;TZID=Europe/Berlin;VALUE=DATE:20190615
DTEND;TZID=Europe/Berlin;VALUE=DATE:20190616
DTSTAMP:20190221T202136Z
URL:https://kfv-erz.de/events/wettkampf-loeschangriff-kjf-erz/
SUMMARY:Wettkampf Löschangriff KJF ERZ
DESCRIPTION:Nachfolgend die Downloadlinks:\n\n&gt\; Ausschreibung Löschang
 riff KJF ERZ\n&gt\; Anmeldung Löschangriff KJF ERZ\n\n&nbsp\;\n\nSymbolbi
 ld: Alexander Wilhelm - Blaulichtfotografie Erzgebirge
ATTACH;FMTTYPE=image/jpeg:https://kfv-erz.de/wp-content/uploads/2019/02/5-
 LA-Kemptau-2018-Foto-Alexander-Wilhelm.jpeg
CATEGORIES:Wettbewerbe
LOCATION:Sportplatz Großolbersdorf\, Scharfensteiner Straße 13\, 09432 Gr
 oßolbersdorf\, Großolbersdorf\, Sachsen\, 09432\, Erzgebirge\, Deutschla
 nd
GEO:50.694754;13.086723300000017
X-APPLE-STRUCTURED-LOCATION;VALUE=URI;X-ADDRESS=Scharfensteiner Straße 13\
 , 09432 Großolbersdorf\, Großolbersdorf\, Sachsen\, 09432\, Erzgebirge\,
  Deutschland;X-APPLE-RADIUS=100;X-TITLE=Sportplatz Großolbersdorf:geo:50.
 694754,13.086723300000017
END:VEVENT
BEGIN:VTIMEZONE
TZID:Europe/Berlin
X-LIC-LOCATION:Europe/Berlin
BEGIN:DAYLIGHT
DTSTART:20190331T030000
TZOFFSETFROM:+0100
TZOFFSETTO:+0200
TZNAME:CEST
END:DAYLIGHT
END:VTIMEZONE
END:VCALENDAR