BEGIN:VCALENDAR
VERSION:2.0
PRODID:-//wp-events-plugin.com//7.2.3.1//EN
TZID:Europe/Berlin
X-WR-TIMEZONE:Europe/Berlin
BEGIN:VEVENT
UID:175@kfv-erz.de
DTSTART;TZID=Europe/Berlin:20190525T080000
DTEND;TZID=Europe/Berlin:20190525T130000
DTSTAMP:20190507T112944Z
URL:https://kfv-erz.de/events/wehrleiterschulung-rb-stollberg-3/
SUMMARY:Wehrleiterschulung RB Stollberg
DESCRIPTION:
ATTACH;FMTTYPE=image/jpeg:https://kfv-erz.de/wp-content/uploads/2019/03/Sc
 reenshot_20190507-132840_Google.jpg
CATEGORIES:KFV Erzgebirge,RB Stollberg
LOCATION:Gerätehaus FF Lugau\, Poststr. 6\, Lugau\, Freistaat Sachsen\, 09
 385\, Erzgebirge\, Deutschland
X-APPLE-STRUCTURED-LOCATION;VALUE=URI;X-ADDRESS=Poststr. 6\, Lugau\, Freist
 aat Sachsen\, 09385\, Erzgebirge\, Deutschland;X-APPLE-RADIUS=100;X-TITLE=
 Gerätehaus FF Lugau:geo:0,0
END:VEVENT
BEGIN:VTIMEZONE
TZID:Europe/Berlin
X-LIC-LOCATION:Europe/Berlin
BEGIN:DAYLIGHT
DTSTART:20190331T030000
TZOFFSETFROM:+0100
TZOFFSETTO:+0200
TZNAME:CEST
END:DAYLIGHT
END:VTIMEZONE
END:VCALENDAR