BEGIN:VCALENDAR
VERSION:2.0
PRODID:-//wp-events-plugin.com//7.2.3.1//EN
TZID:Europe/Berlin
X-WR-TIMEZONE:Europe/Berlin
BEGIN:VEVENT
UID:162@kfv-erz.de
DTSTART;TZID=Europe/Berlin:20181124T080000
DTEND;TZID=Europe/Berlin:20181124T140000
DTSTAMP:20181121T224754Z
URL:https://kfv-erz.de/events/wehrleiterschulung-rb-stollberg-2/
SUMMARY:Wehrleiterschulung RB Stollberg
DESCRIPTION:
ATTACH;FMTTYPE=image/jpeg:https://kfv-erz.de/wp-content/uploads/2018/11/Sa
 msung_181006_28.jpg
CATEGORIES:FTZ,KFV Erzgebirge,RB Stollberg
LOCATION:FTZ Pfaffenhain\, Wilhermsdorfer Straße 40\, Jahnsdorf OT Pfaffen
 hain\, Sachsen\, Deutschland
GEO:50.74926908848558;12.829256336029061
X-APPLE-STRUCTURED-LOCATION;VALUE=URI;X-ADDRESS=Wilhermsdorfer Straße 40\,
  Jahnsdorf OT Pfaffenhain\, Sachsen\, Deutschland;X-APPLE-RADIUS=100;X-TIT
 LE=FTZ Pfaffenhain:geo:50.74926908848558,12.829256336029061
END:VEVENT
BEGIN:VTIMEZONE
TZID:Europe/Berlin
X-LIC-LOCATION:Europe/Berlin
BEGIN:STANDARD
DTSTART:20181028T020000
TZOFFSETFROM:+0200
TZOFFSETTO:+0100
TZNAME:CET
END:STANDARD
END:VTIMEZONE
END:VCALENDAR