BEGIN:VCALENDAR
VERSION:2.0
PRODID:-//wp-events-plugin.com//7.2.3.1//EN
TZID:Europe/Berlin
X-WR-TIMEZONE:Europe/Berlin
BEGIN:VEVENT
UID:26@kfv-erz.de
DTSTART;TZID=Europe/Berlin:20150613T140000
DTEND;TZID=Europe/Berlin:20150613T140000
DTSTAMP:20150605T183253Z
URL:https://kfv-erz.de/events/tag-der-offenen-tuer-in-olbernhau/
SUMMARY:Tag der offenen Tür in Olbernhau
DESCRIPTION:Ein besonderer Tag für unsere Besucher.
ATTACH;FMTTYPE=image/jpeg:https://kfv-erz.de/wp-content/uploads/img_2433.j
 pg
CATEGORIES:Veranstaltungen der Feuerwehren
LOCATION:FF Olbernhau\, Bahnhofstraße 4\, Olbernhau\, Sachsen\, Deutschlan
 d
GEO:50.65938;13.335559999999987
X-APPLE-STRUCTURED-LOCATION;VALUE=URI;X-ADDRESS=Bahnhofstraße 4\, Olbernha
 u\, Sachsen\, Deutschland;X-APPLE-RADIUS=100;X-TITLE=FF Olbernhau:geo:50.6
 5938,13.335559999999987
END:VEVENT
BEGIN:VTIMEZONE
TZID:Europe/Berlin
X-LIC-LOCATION:Europe/Berlin
BEGIN:DAYLIGHT
DTSTART:20150329T030000
TZOFFSETFROM:+0100
TZOFFSETTO:+0200
TZNAME:CEST
END:DAYLIGHT
END:VTIMEZONE
END:VCALENDAR