BEGIN:VCALENDAR
VERSION:2.0
PRODID:-//wp-events-plugin.com//7.2.3.1//EN
TZID:Europe/Berlin
X-WR-TIMEZONE:Europe/Berlin
BEGIN:VEVENT
UID:132@kfv-erz.de
DTSTART;TZID=Europe/Berlin:20180602T000000
DTEND;TZID=Europe/Berlin:20180603T000000
DTSTAMP:20180513T050213Z
URL:https://kfv-erz.de/events/tag-der-offenen-tuer-freiwillige-feuerwehr-g
 rossrueckerswalde/
SUMMARY:Tag der offenen Tür - Freiwillige Feuerwehr Großrückerswalde
DESCRIPTION:\n 	22. Tag der offenen Tür\n\nSamstag:\n17:00 Uhr Böllersch
 üsse\n17:30 Uhr Schalmeienkapelle Steinbach\n20:30 Uhr Party und Tanz mit
  "Barflies"\n\nSonntag:\n10:30 Uhr Frühschoppen mit Musik vom Band\n14:00
  Uhr Bunter Familiennachmittag\, Hüpfburg\, Kaffee und Kuchen\, Kindersch
 minken\, Feuerwehr zum Anfassen\, Kinderspritzenmeister und vieles mehr...
 \n14:30 Uhr Marienberger Blasmusikanten\n18:00 Uhr große Tombola mit toll
 en Gewinnen\n
ATTACH;FMTTYPE=image/jpeg:https://kfv-erz.de/wp-content/uploads/2018/03/Td
 oT-FF-Grw.-2018.jpg
CATEGORIES:Veranstaltungen der Feuerwehren
LOCATION:Neues Gerätehaus Feuerwehr Großrückerswalde\, Marienberger Stra
 ße 72\, Großrückerswalde\, Sachsen\, 09518\, Deutschland
X-APPLE-STRUCTURED-LOCATION;VALUE=URI;X-ADDRESS=Marienberger Straße 72\, G
 roßrückerswalde\, Sachsen\, 09518\, Deutschland;X-APPLE-RADIUS=100;X-TIT
 LE=Neues Gerätehaus Feuerwehr Großrückerswalde:geo:0,0
END:VEVENT
BEGIN:VTIMEZONE
TZID:Europe/Berlin
X-LIC-LOCATION:Europe/Berlin
BEGIN:DAYLIGHT
DTSTART:20180325T030000
TZOFFSETFROM:+0100
TZOFFSETTO:+0200
TZNAME:CEST
END:DAYLIGHT
END:VTIMEZONE
END:VCALENDAR