BEGIN:VCALENDAR
VERSION:2.0
PRODID:-//wp-events-plugin.com//7.2.3.1//EN
TZID:Europe/Berlin
X-WR-TIMEZONE:Europe/Berlin
BEGIN:VEVENT
UID:187@kfv-erz.de
DTSTART;TZID=Europe/Berlin;VALUE=DATE:20190601
DTEND;TZID=Europe/Berlin;VALUE=DATE:20190602
DTSTAMP:20190522T195740Z
URL:https://kfv-erz.de/events/regionalausscheid-rb-annaberg-der-kjf-in-sch
 eibenberg/
SUMMARY:Regionalausscheid RB Annaberg der KJF in Scheibenberg
DESCRIPTION:Die Jugendfeuerwehren des Regionalbereiches Annaberg kämpfen u
 m die Podestplätze. Viel Erfolg.
ATTACH;FMTTYPE=image/jpeg:https://kfv-erz.de/wp-content/uploads/2018/06/Kn
 oten-binden-beim-Wettkampf-Foto-Saskia-Schramm.jpg
CATEGORIES:RB Annaberg,Wettbewerbe
LOCATION:Sportplatz Scheibenberg\, Gewerbegebiet am Bahnhof\, Scheibenberg\
 , Freistaat Sachsen\, Erzgebirge\, Deutschland
X-APPLE-STRUCTURED-LOCATION;VALUE=URI;X-ADDRESS=Gewerbegebiet am Bahnhof\, 
 Scheibenberg\, Freistaat Sachsen\, Erzgebirge\, Deutschland;X-APPLE-RADIUS
 =100;X-TITLE=Sportplatz Scheibenberg:geo:0,0
END:VEVENT
BEGIN:VTIMEZONE
TZID:Europe/Berlin
X-LIC-LOCATION:Europe/Berlin
BEGIN:DAYLIGHT
DTSTART:20190331T030000
TZOFFSETFROM:+0100
TZOFFSETTO:+0200
TZNAME:CEST
END:DAYLIGHT
END:VTIMEZONE
END:VCALENDAR