BEGIN:VCALENDAR
VERSION:2.0
PRODID:-//wp-events-plugin.com//7.2.3.1//EN
TZID:Europe/Berlin
X-WR-TIMEZONE:Europe/Berlin
BEGIN:VEVENT
UID:247@kfv-erz.de
DTSTART;TZID=Europe/Berlin;VALUE=DATE:20240615
DTEND;TZID=Europe/Berlin;VALUE=DATE:20240616
DTSTAMP:20240603T121651Z
URL:https://kfv-erz.de/events/regionalausscheid-jf-ana/
SUMMARY:Regionalausscheid JF ANA
DESCRIPTION:Am 15.06.2024 findet der Regionalausscheid ANA in der Disziplin
  Gruppenstafette statt.\n\nBeginn ist 09:00 Uhr auf der Kurt-Löser Bahn i
 n Annaberg Buchholz.\n\nAn den Start gehen 25 Mannschaften der Wertungsgru
 ppen I-V\n\nJürgen Scheffler\n\nKreisjugendwart
CATEGORIES:Veranstaltungen der Feuerwehren
END:VEVENT
BEGIN:VTIMEZONE
TZID:Europe/Berlin
X-LIC-LOCATION:Europe/Berlin
BEGIN:DAYLIGHT
DTSTART:20240331T030000
TZOFFSETFROM:+0100
TZOFFSETTO:+0200
TZNAME:CEST
END:DAYLIGHT
END:VTIMEZONE
END:VCALENDAR