BEGIN:VCALENDAR
VERSION:2.0
PRODID:-//wp-events-plugin.com//7.2.3.1//EN
TZID:Europe/Berlin
X-WR-TIMEZONE:Europe/Berlin
BEGIN:VEVENT
UID:183@kfv-erz.de
DTSTART;TZID=Europe/Berlin:20190411T163000
DTEND;TZID=Europe/Berlin:20190411T190000
DTSTAMP:20190404T093358Z
URL:https://kfv-erz.de/events/radio-psr-sachsenmeisterschaft-bei-der-feuer
 wehr-marienberg/
SUMMARY:Radio PSR Sachsenmeisterschaft bei der Feuerwehr Marienberg
DESCRIPTION:Es geht scharf mit den Vorbereitungen für die Radio PSR Sachse
 nmeisterschaft bei der Feuerwehr Marienberg.\n\nUnd denkt dran. 11.04.2019
 \n16.30 Uhr\nMarktplatz Marienberg\n\nWir zählen auf Euch\n\nHier gibts j
 etzt den offiziellen Trailer dazu. \n\nhttps://www.youtube.com/watch?v=jQk
 WQW6YGqw\n\n&nbsp\;\n\n&nbsp\;
ATTACH;FMTTYPE=image/jpeg:https://kfv-erz.de/wp-content/uploads/2019/03/FB
 _IMG_1553842199960.jpg
CATEGORIES:KFV Erzgebirge,RB Mittleres Erzgeb.,Veranstaltungen der
 Feuerwehren
LOCATION:Marktplatz Marienberg\, Markt 1\, Marienberg\, Freistaat Sachsen\,
  09496\, Erzgebirge\, Deutschland
X-APPLE-STRUCTURED-LOCATION;VALUE=URI;X-ADDRESS=Markt 1\, Marienberg\, Frei
 staat Sachsen\, 09496\, Erzgebirge\, Deutschland;X-APPLE-RADIUS=100;X-TITL
 E=Marktplatz Marienberg:geo:0,0
END:VEVENT
BEGIN:VTIMEZONE
TZID:Europe/Berlin
X-LIC-LOCATION:Europe/Berlin
BEGIN:DAYLIGHT
DTSTART:20190331T030000
TZOFFSETFROM:+0100
TZOFFSETTO:+0200
TZNAME:CEST
END:DAYLIGHT
END:VTIMEZONE
END:VCALENDAR