BEGIN:VCALENDAR
VERSION:2.0
PRODID:-//wp-events-plugin.com//7.2.3.1//EN
TZID:Europe/Berlin
X-WR-TIMEZONE:Europe/Berlin
BEGIN:VEVENT
UID:45@kfv-erz.de
DTSTART;TZID=Europe/Berlin:20160903T090000
DTEND;TZID=Europe/Berlin:20160903T180000
DTSTAMP:20160114T120504Z
URL:https://kfv-erz.de/events/kreismeisterschaften-loeschangriff-jugendfeu
 erwehr-und-aktive-in-carlsfeld/
SUMMARY:Kreismeisterschaften Löschangriff  Jugendfeuerwehr und Aktive in 
 Carlsfeld
DESCRIPTION:
CATEGORIES:Kreisjugendfeuerwehr,Wettbewerbe
END:VEVENT
BEGIN:VTIMEZONE
TZID:Europe/Berlin
X-LIC-LOCATION:Europe/Berlin
BEGIN:DAYLIGHT
DTSTART:20160327T030000
TZOFFSETFROM:+0100
TZOFFSETTO:+0200
TZNAME:CEST
END:DAYLIGHT
END:VTIMEZONE
END:VCALENDAR