BEGIN:VCALENDAR
VERSION:2.0
PRODID:-//wp-events-plugin.com//7.2.3.1//EN
TZID:Europe/Berlin
X-WR-TIMEZONE:Europe/Berlin
BEGIN:VEVENT
UID:142@kfv-erz.de
DTSTART;TZID=Europe/Berlin;VALUE=DATE:20180602
DTEND;TZID=Europe/Berlin;VALUE=DATE:20180603
DTSTAMP:20180416T184045Z
URL:https://kfv-erz.de/events/erzgebirgspokal/
SUMMARY:Erzgebirgspokal
DESCRIPTION:Die Feuerwehr Großolbersdorf lädt wieder ein: zum Erzgebirgsp
 okal im Löschangriff. Hier können Manner- Frauen- und Jugendmannschaften
  starten.\n\nFür das leibliche Wohl wird natürlich wieder bestens gesorg
 t!\n\nweitere Infos und Ausschreibung unter: www.ffw-grossolbersdorf.com\n
 \n&nbsp\;\n\n&nbsp\;
ATTACH;FMTTYPE=image/jpeg:https://kfv-erz.de/wp-content/uploads/2018/04/Pl
 akatERZ.Pokal-.jpg
CATEGORIES:Feuerwehrwettkampf
LOCATION:Sportplatz Großolbersdorf\, Scharfensteiner Straße 13\, 09432 Gr
 oßolbersdorf\, Großolbersdorf\, Sachsen\, 09432\, Erzgebirge\, Deutschla
 nd
GEO:50.694754;13.086723300000017
X-APPLE-STRUCTURED-LOCATION;VALUE=URI;X-ADDRESS=Scharfensteiner Straße 13\
 , 09432 Großolbersdorf\, Großolbersdorf\, Sachsen\, 09432\, Erzgebirge\,
  Deutschland;X-APPLE-RADIUS=100;X-TITLE=Sportplatz Großolbersdorf:geo:50.
 694754,13.086723300000017
END:VEVENT
BEGIN:VTIMEZONE
TZID:Europe/Berlin
X-LIC-LOCATION:Europe/Berlin
BEGIN:DAYLIGHT
DTSTART:20180325T030000
TZOFFSETFROM:+0100
TZOFFSETTO:+0200
TZNAME:CEST
END:DAYLIGHT
END:VTIMEZONE
END:VCALENDAR