BEGIN:VCALENDAR
VERSION:2.0
PRODID:-//wp-events-plugin.com//7.2.3.1//EN
TZID:Europe/Berlin
X-WR-TIMEZONE:Europe/Berlin
BEGIN:VEVENT
UID:41@kfv-erz.de
DTSTART;TZID=Europe/Berlin:20151107T100000
DTEND;TZID=Europe/Berlin:20151107T100000
DTSTAMP:20151106T113645Z
URL:https://kfv-erz.de/events/auszeichnungsveranstaltung-regionalbereich-m
 ittleres-erzgebirge/
SUMMARY:Auszeichnungsveranstaltung Regionalbereich Mittleres Erzgebirge
DESCRIPTION:Am Samstag\, 07.11.2015 findet ab 10:00 Uhr in Großrückerswal
 de in der "Scheunenwirtin" die Auszeichnungsveranstaltung des Regionalbere
 iches Mittleres Erzgebirge statt. Zahlreiche Kameradinnen und Kameraden we
 rden dabei für 10-\, 25-\, 40-\, 50-\, 60- und 70-jährige Mitgliedschaft
  in der Freiwilligen feuerwehr ausgezeichnet.
CATEGORIES:KFV Erzgebirge
LOCATION:Scheunenwirtin\, Oberdorf 1a\, Großrückerswalde\, 09518\, Deutsc
 hland
GEO:50.63142;13.126060000000052
X-APPLE-STRUCTURED-LOCATION;VALUE=URI;X-ADDRESS=Oberdorf 1a\, Großrückers
 walde\, 09518\, Deutschland;X-APPLE-RADIUS=100;X-TITLE=Scheunenwirtin:geo:
 50.63142,13.126060000000052
END:VEVENT
BEGIN:VTIMEZONE
TZID:Europe/Berlin
X-LIC-LOCATION:Europe/Berlin
BEGIN:STANDARD
DTSTART:20151025T020000
TZOFFSETFROM:+0200
TZOFFSETTO:+0100
TZNAME:CET
END:STANDARD
END:VTIMEZONE
END:VCALENDAR