BEGIN:VCALENDAR
VERSION:2.0
PRODID:-//wp-events-plugin.com//7.2.3.1//EN
TZID:Europe/Berlin
X-WR-TIMEZONE:Europe/Berlin
BEGIN:VEVENT
UID:167@kfv-erz.de
DTSTART;TZID=Europe/Berlin:20181124T100000
DTEND;TZID=Europe/Berlin:20181124T140000
DTSTAMP:20181121T230815Z
URL:https://kfv-erz.de/events/auszeichnungsveranstaltung-des-lra-erz-aktiv
 e-dienste-rbs-mek-und-ana/
SUMMARY:Auszeichnungsveranstaltung des LRA ERZ aktive Dienste RBs MEK und A
 NA
DESCRIPTION:Die entsprechenden Kameradinnen und Kameraden werden durch den 
 Landrat zu 25\, 40 und 50- jähriger aktiver Dienstzeit ausgezeichnet.
ATTACH;FMTTYPE=image/jpeg:https://kfv-erz.de/wp-content/uploads/2018/11/Ga
 sthof-Mildenau.jpg
CATEGORIES:KFV Erzgebirge,RB Annaberg,RB Mittleres Erzgeb.
LOCATION:Gasthof Mildenau\, Dorfstr. 82\, Mildenau\, 09456\, Deutschland
GEO:50.590224;13.069955400000026
X-APPLE-STRUCTURED-LOCATION;VALUE=URI;X-ADDRESS=Dorfstr. 82\, Mildenau\, 09
 456\, Deutschland;X-APPLE-RADIUS=100;X-TITLE=Gasthof Mildenau:geo:50.59022
 4,13.069955400000026
END:VEVENT
BEGIN:VTIMEZONE
TZID:Europe/Berlin
X-LIC-LOCATION:Europe/Berlin
BEGIN:STANDARD
DTSTART:20181028T020000
TZOFFSETFROM:+0200
TZOFFSETTO:+0100
TZNAME:CET
END:STANDARD
END:VTIMEZONE
END:VCALENDAR