BEGIN:VCALENDAR
VERSION:2.0
PRODID:-//wp-events-plugin.com//7.2.3.1//EN
TZID:Europe/Berlin
X-WR-TIMEZONE:Europe/Berlin
BEGIN:VEVENT
UID:92@kfv-erz.de
DTSTART;TZID=Europe/Berlin;VALUE=DATE:20170501
DTEND;TZID=Europe/Berlin;VALUE=DATE:20170502
DTSTAMP:20161221T193232Z
URL:https://kfv-erz.de/events/25-jahre-feuerwehrverein-auerbach/
SUMMARY:25 Jahre Feuerwehrverein Auerbach
DESCRIPTION:
CATEGORIES:Sonstiges
LOCATION:Gerätehaus Auerbach\,  Obere Hauptstraße 30\,   Auerbach/Erz.\, 
 09392\, Deutschland
GEO:50.68205;12.913260000000037
X-APPLE-STRUCTURED-LOCATION;VALUE=URI;X-ADDRESS= Obere Hauptstraße 30\,   
 Auerbach/Erz.\, 09392\, Deutschland;X-APPLE-RADIUS=100;X-TITLE=Gerätehaus
  Auerbach:geo:50.68205,12.913260000000037
END:VEVENT
BEGIN:VTIMEZONE
TZID:Europe/Berlin
X-LIC-LOCATION:Europe/Berlin
BEGIN:DAYLIGHT
DTSTART:20170326T030000
TZOFFSETFROM:+0100
TZOFFSETTO:+0200
TZNAME:CEST
END:DAYLIGHT
END:VTIMEZONE
END:VCALENDAR