BEGIN:VCALENDAR
VERSION:2.0
PRODID:-//wp-events-plugin.com//7.2.3.1//EN
TZID:Europe/Berlin
X-WR-TIMEZONE:Europe/Berlin
BEGIN:VEVENT
UID:190@kfv-erz.de
DTSTART;TZID=Europe/Berlin;VALUE=DATE:20190708
DTEND;TZID=Europe/Berlin;VALUE=DATE:20190714
DTSTAMP:20190522T201347Z
URL:https://kfv-erz.de/events/19-ausbildungswoche-der-ljf-sachsen-mit-leis
 tungsspange-an-der-lfs/
SUMMARY:19. Ausbildungswoche der LJF Sachsen mit Leistungsspange an der LFS
DESCRIPTION:Wir wünschen beste Erfolge beim Ablegen der höchsten Qualifik
 ation im Jugendfeuerwehrbereich.
ATTACH;FMTTYPE=image/jpeg:https://kfv-erz.de/wp-content/uploads/2018/07/Pi
 csArt_07-17-12.29.41.png
CATEGORIES:Kreisjugendfeuerwehr,Wettbewerbe
LOCATION:Landesfeuerwehrschule Sachsen\, St.-Florian-Weg 1\, Nardt\, Freist
 aat Sachsen\, 02979\, Deutschland
X-APPLE-STRUCTURED-LOCATION;VALUE=URI;X-ADDRESS=St.-Florian-Weg 1\, Nardt\,
  Freistaat Sachsen\, 02979\, Deutschland;X-APPLE-RADIUS=100;X-TITLE=Landes
 feuerwehrschule Sachsen:geo:0,0
END:VEVENT
BEGIN:VTIMEZONE
TZID:Europe/Berlin
X-LIC-LOCATION:Europe/Berlin
BEGIN:DAYLIGHT
DTSTART:20190331T030000
TZOFFSETFROM:+0100
TZOFFSETTO:+0200
TZNAME:CEST
END:DAYLIGHT
END:VTIMEZONE
END:VCALENDAR