BEGIN:VCALENDAR
VERSION:2.0
PRODID:-//wp-events-plugin.com//7.2.3.1//EN
TZID:Europe/Berlin
X-WR-TIMEZONE:Europe/Berlin
BEGIN:VEVENT
UID:195@kfv-erz.de
DTSTART;TZID=Europe/Berlin:20200919T130000
DTEND;TZID=Europe/Berlin:20200919T235900
DTSTAMP:20200831T100310Z
URL:https://kfv-erz.de/events/140-jahre-ffw-neundorf/
SUMMARY:140 Jahre FFw Neundorf
DESCRIPTION:140 Jahre FFw Neundorf\n\nHier das Plakat zum Download:\n\nPlak
 at 140 Jahre FF Neundorf
ATTACH;FMTTYPE=image/jpeg:https://kfv-erz.de/wp-content/uploads/2019/08/Sc
 reenshot_20200831-115838_Adobe-Acrobat.jpg
CATEGORIES:Veranstaltungen der Feuerwehren
LOCATION:Festgelände am Rittergut\, Rittergutsweg 3\,  Neundorf\, Sachsen\
 , 09488\, Erzgebirge\, Deutschland
X-APPLE-STRUCTURED-LOCATION;VALUE=URI;X-ADDRESS=Rittergutsweg 3\,  Neundorf
 \, Sachsen\, 09488\, Erzgebirge\, Deutschland;X-APPLE-RADIUS=100;X-TITLE=F
 estgelände am Rittergut:geo:0,0
END:VEVENT
BEGIN:VTIMEZONE
TZID:Europe/Berlin
X-LIC-LOCATION:Europe/Berlin
BEGIN:DAYLIGHT
DTSTART:20200329T030000
TZOFFSETFROM:+0100
TZOFFSETTO:+0200
TZNAME:CEST
END:DAYLIGHT
END:VTIMEZONE
END:VCALENDAR